Workbook

Sheet Sem_I
D1: Plan de învățământ licență
D2: 2026 - 2029 | K2: Anul universitar: | L2: 2026 - 2027
B3: Domeniul: | C3: Finanțe | K3: Anul de studii: | L3: I
B4: Programul de studii: | C4: Finanțe și bănci | K4: Semestrul: | L4: I
A6: Nr. crt. | B6: Codul disciplinei | C6: Denumirea disciplinei | D6: Categorie formativă | E6: Nr. ECTS | F6: Ore/săptămână | J6: Total ore | L6: Forma de evaluare
F7: C | G7: S | H7: L | I7: P | J7: Activități didactice | K7: Studiu individual
A8: Discipline Obligatorii (Ob)
A9: 1 | B9: P.L.22.FIN.07.I.Ob.1 | C9: Microeconomie | D9: F | E9: 5 | F9: 2 | G9: 2 | J9: =SUM(F9:I9)*14 -> 56 | K9: =E9*25-J9 -> 69 | L9: E
A10: 2 | B10: P.L.22.FIN.07.I.Ob.2 | C10: Matematică aplicată în economie | D10: F | E10: 3 | F10: 1 | G10: 1 | J10: =SUM(F10:I10)*14 -> 28 | K10: =E10*25-J10 -> 47 | L10: V
A11: 3 | B11: P.L.22.FIN.07.I.Ob.3 | C11: Statistică economică | D11: F | E11: 5 | F11: 2 | G11: 1 | J11: =SUM(F11:I11)*14 -> 42 | K11: =E11*25-J11 -> 83 | L11: E | M11: E
A12: 4 | B12: P.L.22.FIN.07.I.Ob.4 | C12: Management | D12: F | E12: 5 | F12: 2 | G12: 1 | J12: =SUM(F12:I12)*14 -> 42 | K12: =E12*25-J12 -> 83 | L12: V | M12: C
A13: 5 | B13: P.L.22.FIN.07.I.Ob.5 | C13: Marketing | D13: F | E13: 3 | F13: 1 | G13: 1 | J13: =SUM(F13:I13)*14 -> 28 | K13: =E13*25-J13 -> 47 | L13: E
A14: 6 | B14: P.L.22.FIN.07.I.Ob.6 | C14: Economie europeană | D14: F | E14: 5 | F14: 2 | G14: 2 | J14: =SUM(F14:I14)*14 -> 56 | K14: =E14*25-J14 -> 69 | L14: E
A15: 7 | B15: P.L.22.FIN.07.I.Ob.7 | C15: Educație fizică şi sport I | D15: C | E15: 2 | G15: 1 | J15: =SUM(F15:I15)*14 -> 14 | K15: =E15*25-J15 -> 36 | L15: V | M15: V
A16: Discipline opționale (Op)
A17: 8 | B17: P.L.22.FIN.07.I.Op.8 | C17: Limba engleză pentru afaceri I | D17: C | E17: 2 | G17: 2 | J17: =SUM(F17:I17)*14 -> 28 | K17: =E17*25-J17 -> 22 | L17: V
A18: 9 | B18: P.L.22.FIN.07.I.Op.9 | C18: Limba franceză pentru afaceri I
A19: Statistici: | D19: ECTS/Ore: | E19: =SUM(E9:E18) -> 30 | F19: =SUM(F9:F18) -> 10 | G19: =SUM(G9:G18) -> 11 | H19: =SUM(H9:H18) -> 0 | I19: =SUM(I9:I18) -> 0 | J19: =SUM(J9:J18) -> 294 | K19: =SUM(K9:K18) -> 456 | L19: Ex. | M19: Ver./Col.
D20: Număr: | F20: =COUNT(F9:F18) -> 6 | G20: =COUNT(G9:G18) -> 8 | H20: =COUNT(H9:H18) -> 0 | I20: =COUNT(I9:I18) -> 0 | L20: =COUNTIF(L9:L19,"=E") -> 4 | M20: =COUNTIF(L9:L19,"=V")+COUNTIF(L9:L19,"=C") -> 4
A21: Discipline facultative (Fac)
A22: 10 | B22: P.L.22.FIN.07.I.Fac.10 | C22: Psihologia educației | D22: C | E22: 5 | F22: 2 | G22: 2 | J22: =SUM(F22:I22)*14 -> 56 | K22: =25*E22-J22 -> 69 | L22: E
A23: 11 | B23: P.L.22.FIN.07.I.Fac.11 | C23: Voluntariat 1 | D23: C' | E23: 3 | J23: 75 ore | L23: V
B25: TOTAL NUMĂR DE ORE | C25: Discipline Obligatorii: | D25: =SUM(F9:I15) -> 19
C26: Discipline Opționale: | D26: =SUM(F17:I18) -> 2
C27: Discipline Facultative: | D27: =SUM(F22:I23) -> 4
B29: Rector, | E29: Decan, | J29: Director departament,
B30: Mihnea - Cosmin COSTOIU | D30: Carmen-Constantina NENU | J30: Luminița ȘERBĂNESCU

Sheet Sem_II
D1: =Sem_I!$D$1 -> Plan de învățământ licență
D2: =Sem_I!$D$2 -> 2026 - 2029 | K2: Anul universitar: | L2: =Sem_I!$L$2 -> 2026 - 2027
B3: Domeniul: | C3: =Sem_I!C3 -> Finanțe | K3: Anul de studii: | L3: =Sem_I!$L$3 -> I
B4: Programul de studii: | C4: =Sem_I!C4 -> Finanțe și bănci | K4: Semestrul: | L4: II
A6: Nr. crt. | B6: Codul disciplinei | C6: Denumirea disciplinei | D6: Categorie formativă | E6: Nr. ECTS | F6: Ore/săptămână | J6: Total ore | L6: Forma de evaluare
F7: C | G7: S | H7: L | I7: P | J7: Activități didactice | K7: Studiu individual
A8: Discipline Obligatorii (Ob)
A9: 1 | B9: P.L.22.FIN.07.II.Ob.1 | C9: Macroeconomie | D9: F | E9: 5 | F9: 2 | G9: 1 | J9: =SUM(F9:I9)*14 -> 42 | K9: =E9*25-J9 -> 83 | L9: E | M9: E
A10: 2 | B10: P.L.22.FIN.07.II.Ob.2 | C10: Dreptul afacerilor | D10: F | E10: 3 | F10: 1 | G10: 1 | J10: =SUM(F10:I10)*14 -> 28 | K10: =E10*25-J10 -> 47 | L10: V | M10: C
A11: 3 | B11: P.L.22.FIN.07.II.Ob.3 | C11: Informatică economică | D11: F | E11: 5 | F11: 1 | H11: 2 | J11: =SUM(F11:I11)*14 -> 42 | K11: =E11*25-J11 -> 83 | L11: V | M11: C
A12: 4 | B12: P.L.22.FIN.07.II.Ob.4 | C12: Bazele contabilității | D12: F | E12: 5 | F12: 2 | G12: 2 | J12: =SUM(F12:I12)*14 -> 56 | K12: =E12*25-J12 -> 69 | L12: E | M12: E
A13: 5 | B13: P.L.22.FIN.07.II.Ob.5 | C13: Finanțe | D13: F | E13: 5 | F13: 2 | G13: 2 | J13: =SUM(F13:I13)*14 -> 56 | K13: =E13*25-J13 -> 69 | L13: E | M13: E
A14: 6 | B14: P.L.22.FIN.07.II.Ob.6 | C14: Dezvoltare durabilă | D14: F | E14: 3 | F14: 1 | G14: 1 | J14: =SUM(F14:I14)*14 -> 28 | K14: =E14*25-J14 -> 47 | L14: E | M14: E
A15: 7 | B15: P.L.22.FIN.07.II.Ob.7 | C15: Educație fizică şi sport II | D15: C | E15: 2 | G15: 1 | J15: =SUM(F15:I15)*14 -> 14 | K15: =E15*25-J15 -> 36 | L15: V | M15: V
A16: Discipline opționale (Op)
A17: 8 | B17: P.L.22.FIN.07.II.Op.8 | C17: Limba engleză pentru afaceri II | D17: C | E17: 2 | G17: 2 | J17: =SUM(F17:I17)*14 -> 28 | K17: =E17*25-J17 -> 22 | L17: V
A18: 9 | B18: P.L.22.FIN.07.II.Op.9 | C18: Limba franceză pentru afaceri II
A19: Statistici: | D19: ECTS/Ore: | E19: =SUM(E9:E18) -> 30 | F19: =SUM(F9:F18) -> 9 | G19: =SUM(G9:G18) -> 10 | H19: =SUM(H9:H18) -> 2 | I19: =SUM(I9:I18) -> 0 | J19: =SUM(J9:J18) -> 294 | K19: =SUM(K9:K18) -> 456 | L19: Ex. | M19: Ver./Col.
D20: Număr: | F20: =COUNT(F9:F18) -> 6 | G20: =COUNT(G9:G18) -> 7 | H20: =COUNT(H9:H18) -> 1 | I20: =COUNT(I9:I18) -> 0 | L20: =COUNTIF(L9:L18,"=E") -> 4 | M20: =COUNTIF(L9:L18,"=V")+COUNTIF(L9:L18,"=C") -> 4
A21: Discipline facultative (Fac)
A22: 10 | B22: P.L.22.FIN.07.II.Fac.10 | C22: Pedagogie I: - Fundamentele pedagogiei - Teoria și metodologia curriculumului | D22: C | E22: 5 | F22: 2 | G22: 2 | J22: =SUM(F22:I22)*14 -> 56 | K22: =25*E22-J22 -> 69 | L22: E
A23: 11 | B23: P.L.22.FIN.07.II.Fac.11 | C23: Voluntariat 2 | D23: C' | E23: 3 | J23: 75 ore | L23: V
B25: TOTAL NUMĂR DE ORE | C25: =Sem_I!C25 -> Discipline Obligatorii: | D25: =SUM(F9:I15) -> 19
C26: =Sem_I!C26 -> Discipline Opționale: | D26: =SUM(F17:I18) -> 2
C27: =Sem_I!C27 -> Discipline Facultative: | D27: =SUM(F22:I23) -> 4
B29: Rector, | E29: Decan, | J29: Director departament,
B30: =Sem_I!B30 -> Mihnea - Cosmin COSTOIU | D30: =Sem_I!D30 -> Carmen-Constantina NENU | J30: =Sem_I!J30 -> Luminița ȘERBĂNESCU

Sheet Sem_III
D1: =Sem_I!D1 -> Plan de învățământ licență
D2: =Sem_I!D2 -> 2026 - 2029 | K2: Anul universitar: | L2: 2027 - 2028
B3: Domeniul: | C3: =Sem_I!C3 -> Finanțe | K3: Anul de studii: | L3: II
B4: Programul de studii: | C4: =Sem_I!C4 -> Finanțe și bănci | K4: Semestrul: | L4: I
A6: Nr. Crt. | B6: Codul disciplinei | C6: Denumirea disciplinei | D6: Categorie formativă | E6: Nr. ECTS | F6: Ore/săptămână | J6: Total ore | L6: Forma de evaluare
F7: C | G7: S | H7: L | I7: P | J7: Activități didactice | K7: Studiu individual
A8: Discipline Obligatorii (Ob)
A9: 1 | B9: P.L.22.FIN.07.III.Ob.1 | C9: Moneda | D9: S | E9: 5 | F9: 2 | G9: 2 | J9: =SUM(F9:I9)*14 -> 56 | K9: =E9*25-J9 -> 69 | L9: E | M9: E
A10: 2 | B10: P.L.22.FIN.07.III.Ob.2 | C10: Contabilitate financiară | D10: S | E10: 5 | F10: 2 | G10: 1 | J10: =SUM(F10:I10)*14 -> 42 | K10: =E10*25-J10 -> 83 | L10: E | M10: E
A11: 3 | B11: P.L.22.FIN.07.III.Ob.3 | C11: Finanțe publice | D11: S | E11: 5 | F11: 2 | G11: 1 | J11: =SUM(F11:I11)*14 -> 42 | K11: =E11*25-J11 -> 83 | L11: E | M11: E
A12: 4 | B12: P.L.22.FIN.07.III.Ob.4 | C12: Sisteme și mecanisme economice și monetare | D12: S | E12: 5 | F12: 2 | G12: 2 | J12: =SUM(F12:I12)*14 -> 56 | K12: =E12*25-J12 -> 69 | L12: E | M12: E
A13: Discipline opționale (Op)
A14: 5 | B14: P.L.22.FIN.07.III.Op.5 | C14: Mediul concurențial internațional | D14: S | E14: 4 | F14: 2 | G14: 1 | J14: =SUM(F14:I14)*14 -> 42 | K14: =E14*25-J14 -> 58 | L14: V
A15: 6 | B15: P.L.22.FIN.07.III.Op.6 | C15: Control financiar
A16: 7 | B16: P.L.22.FIN.07.III.Op.7 | C16: Globalizare economica si competitivitate
A17: 8 | B17: P.L.22.FIN.07.III.Op.8 | C17: Doctrine economice contemporane | D17: C | E17: 4 | F17: 1 | G17: 1 | J17: =SUM(F17:I17)*14 -> 28 | K17: =E17*25-J17 -> 72 | L17: V
A18: 9 | B18: P.L.22.FIN.07.III.Op.9 | C18: Etică și integritate academică: fundamente și valori
A19: 10 | B19: P.L.22.FIN.07.III.Op.10 | C19: Comunicare și relații publice
A20: 11 | B20: P.L.22.FIN.07.III.Op.11 | C20: Limba engleză pentru afaceri III | D20: C | E20: 2 | G20: 2 | J20: =SUM(F20:I20)*14 -> 28 | K20: =E20*25-J20 -> 22 | L20: V
A21: 12 | B21: P.L.22.FIN.07.III.Op.12 | C21: Limba franceză pentru afaceri III
A22: Statistici: | D22: ECTS/Ore: | E22: =SUM(E9:E21) -> 30 | F22: =SUM(F9:F21) -> 11 | G22: =SUM(G9:G21) -> 10 | H22: =SUM(H9:H21) -> 0 | I22: =SUM(I9:I21) -> 0 | J22: =SUM(J9:J21) -> 294 | K22: =SUM(K9:K21) -> 456 | L22: Ex. | M22: Ver./Col.
D23: Număr: | F23: =COUNT(F9:F21) -> 6 | G23: =COUNT(G9:G21) -> 7 | H23: =COUNT(H9:H21) -> 0 | I23: =COUNT(I9:I21) -> 0 | L23: =COUNTIF(L9:L21,"=E") -> 4 | M23: =COUNTIF(L9:L21,"=V")+COUNTIF(L9:L21,"=C") -> 3
A24: Discipline facultative (Fac)
A25: 13 | B25: P.L.22.FIN.07.III.Fac.13 | C25: Educație fizică si sport III | D25: C | E25: 1 | G25: 1 | J25: =SUM(F25:I25)*14 -> 14 | K25: =E25*25-J25 -> 11 | L25: V
A26: 14 | B26: P.L.22.FIN.07.III.Fac.14 | C26: Pedagogie II: - Teoria și metodologia instruirii - Teoria și metodologia evaluării | D26: C | E26: 5 | F26: 2 | G26: 2 | J26: =SUM(F26:I26)*14 -> 56 | K26: =E26*25-J26 -> 69 | L26: E
A27: 15 | B27: P.L.22.FIN.07.III.Fac.15 | C27: Voluntariat 3 | D27: C' | E27: 3 | J27: 75 ore | L27: V
B29: TOTAL NUMĂR DE ORE | C29: =Sem_I!C25 -> Discipline Obligatorii: | D29: =SUM(F9:I12) -> 14
C30: =Sem_I!C26 -> Discipline Opționale: | D30: =SUM(F14:I21) -> 7
C31: =Sem_I!C27 -> Discipline Facultative: | D31: =SUM(F25:I27) -> 5
B33: Rector, | E33: Decan, | J33: Director departament,
B34: =Sem_I!B30 -> Mihnea - Cosmin COSTOIU | D34: =Sem_I!D30 -> Carmen-Constantina NENU | J34: =Sem_I!J30 -> Luminița ȘERBĂNESCU

Sheet Sem_IV
D1: =Sem_I!D1 -> Plan de învățământ licență
D2: =Sem_I!D2 -> 2026 - 2029 | K2: Anul universitar: | L2: =Sem_III!$L$2 -> 2027 - 2028
B3: Domeniul: | C3: =Sem_I!C3 -> Finanțe | K3: Anul de studii: | L3: =Sem_III!$L$3 -> II
B4: Programul de studii: | C4: =Sem_I!C4 -> Finanțe și bănci | K4: Semestrul: | L4: II
A6: Nr. crt. | B6: Codul disciplinei | C6: Denumirea disciplinei | D6: Categorie formativă | E6: Nr. ECTS | F6: Ore/săptămână | J6: Total ore | L6: Forma de evaluare
F7: C | G7: S | H7: L | I7: P | J7: Activități didactice | K7: Studiu individual
A8: Discipline Obligatorii (Ob)
A9: 1 | B9: P.L.22.FIN.07.IV.Ob.1 | C9: Operațiunile instituțiilor de credit | D9: S | E9: 4 | F9: 2 | G9: 1 | J9: =SUM(F9:I9)*14 -> 42 | K9: =E9*25-J9 -> 58 | L9: V
A10: 2 | B10: P.L.22.FIN.07.IV.Ob.2 | C10: Baze de date | D10: S | E10: 4 | F10: 1 | H10: 2 | J10: =SUM(F10:I10)*14 -> 42 | K10: =E10*25-J10 -> 58 | L10: E | M10: E
A11: 3 | B11: P.L.22.FIN.07.IV.Ob.3 | C11: Produse și servicii bancare | D11: S | E11: 4 | F11: 2 | G11: 1 | J11: =SUM(F11:I11)*14 -> 42 | K11: =E11*25-J11 -> 58 | L11: E | M11: E
A12: 4 | B12: P.L.22.FIN.07.IV.Ob.4 | C12: Organizații economice internaționale | D12: S | E12: 5 | F12: 2 | G12: 2 | J12: =SUM(F12:I12)*14 -> 56 | K12: =E12*25-J12 -> 69 | L12: E | M12: E
A13: 5 | B13: P.L.22.FIN.07.IV.Ob.5 | C13: Gestiunea financiară a firmei | D13: S | E13: 4 | F13: 1 | G13: 2 | J13: =SUM(F13:I13)*14 -> 42 | K13: =E13*25-J13 -> 58 | L13: E | M13: E
A14: 6 | B14: P.L.22.FIN.07.IV.Ob.6 | C14: Practica de specialitate | D14: S | E14: 3 | I14: 7 | J14: =SUM(F14:I14)*14 -> 98 | K14: =E14*25-J14 -> -23 | L14: V | M14: C
A15: Discipline opționale (Op)
A16: 7 | B16: P.L.22.FIN.07.IV.Op.7 | C16: Economia sectorului public | D16: S | E16: 4 | F16: 2 | G16: 1 | J16: =SUM(F16:I16)*14 -> 42 | K16: =E16*25-J16 -> 58 | L16: V
A17: 8 | B17: P.L.22.FIN.07.IV.Op.8 | C17: Politici economice internationale
A18: 9 | B18: P.L.22.FIN.07.IV.Op.9 | C18: Economie si finante comportamentale
A19: 10 | B19: P.L.22.FIN.07.IV.Op.10 | C19: Limba engleză pentru afaceri IV | D19: C | E19: 2 | G19: 2 | J19: =SUM(F19:I19)*14 -> 28 | K19: =E19*25-J19 -> 22 | L19: V
A20: 11 | B20: P.L.22.FIN.07.IV.Op.11 | C20: Limba franceză pentru afaceri IV
A21: Statistici: | D21: ECTS/Ore: | E21: =SUM(E9:E20) -> 30 | F21: =SUM(F9:F20) -> 10 | G21: =SUM(G9:G20) -> 9 | H21: =SUM(H9:H20) -> 2 | I21: =SUM(I9:I20) -> 7 | J21: =SUM(J9:J20) -> 392 | K21: =SUM(K9:K20) -> 358 | L21: Ex. | M21: Ver./Col.
D22: Număr: | F22: =COUNT(F9:F20) -> 6 | G22: =COUNT(G9:G20) -> 6 | H22: =COUNT(H9:H20) -> 1 | I22: =COUNT(I9:I20) -> 1 | L22: =COUNTIF(L9:L20,"=E") -> 4 | M22: =COUNTIF(L9:L20,"=V")+COUNTIF(L9:L20,"=C") -> 4
A23: Discipline facultative (Fac)
A24: 12 | B24: P.L.22.FIN.07.IV.Fac.12 | C24: Educație fizică şi sport IV | D24: C | E24: 1 | G24: 1 | J24: =SUM(F24:I24)*14 -> 14 | K24: =E24*25-J24 -> 11 | L24: V
A25: 13 | B25: P.L.22.FIN.07.IV.Fac.13 | C25: Didactica specializării | D25: C | E25: 5 | F25: 2 | G25: 2 | J25: =SUM(F25:I25)*14 -> 56 | K25: =E25*25-J25 -> 69 | L25: E
A26: 14 | B26: P.L.22.FIN.07.IV.Fac.14 | C26: Voluntariat 4 | D26: C' | E26: 3 | J26: 75 ore | L26: V
B28: TOTAL NUMĂR DE ORE | C28: Discipline Obligatorii: | D28: =SUM(F9:I14) -> 23
C29: Discipline Opționale: | D29: =SUM(F16:I20) -> 5
C30: Discipline Facultative: | D30: =SUM(F24:I26) -> 5
B32: Rector, | E32: Decan, | J32: Director departament,
B33: =Sem_I!B30 -> Mihnea - Cosmin COSTOIU | D33: =Sem_I!D30 -> Carmen-Constantina NENU | J33: =Sem_I!J30 -> Luminița ȘERBĂNESCU

Sheet Sem_V
D1: =Sem_I!D1 -> Plan de învățământ licență
D2: =Sem_I!D2 -> 2026 - 2029 | K2: Anul universitar: | L2: 2028 - 2029
B3: Domeniul: | C3: =Sem_I!C3 -> Finanțe | K3: Anul de studii: | L3: III
B4: Programul de studii: | C4: =Sem_I!C4 -> Finanțe și bănci | K4: Semestrul: | L4: I
A6: Nr. crt. | B6: Codul disciplinei | C6: Denumirea disciplinei | D6: Categorie formativă | E6: Nr. ECTS | F6: Ore/săptămână | J6: Total ore | L6: Forma de evaluare
F7: C | G7: S | H7: L | I7: P | J7: Activități didactice | K7: Studiu individual
A8: Discipline Obligatorii (Ob)
A9: 1 | B9: P.L.22.FIN.07.V.Ob.1 | C9: Asigurări și reasigurări | D9: S | E9: 5 | F9: 2 | G9: 1 | J9: =SUM(F9:I9)*14 -> 42 | K9: =E9*25-J9 -> 83 | L9: E
A10: 2 | B10: P.L.22.FIN.07.V.Ob.2 | C10: Finanțe internaționale | D10: S | E10: 5 | F10: 2 | G10: 1 | J10: =SUM(F10:I10)*14 -> 42 | K10: =E10*25-J10 -> 83 | L10: E | M10: E
A11: 3 | B11: P.L.22.FIN.07.V.Ob.3 | C11: Protecție socială și pensii private | D11: S | E11: 5 | F11: 2 | G11: 1 | J11: =SUM(F11:I11)*14 -> 42 | K11: =E11*25-J11 -> 83 | L11: V
A12: 4 | B12: P.L.22.FIN.07.V.Ob.4 | C12: Prețuri și concurență | D12: S | E12: 5 | F12: 2 | G12: 2 | J12: =SUM(F12:I12)*14 -> 56 | K12: =E12*25-J12 -> 69 | L12: E | M12: E
A13: 5 | B13: P.L.22.FIN.07.V.Ob.5 | C13: Piețe de capital | D13: S | E13: 5 | F13: 2 | G13: 2 | J13: =SUM(F13:I13)*14 -> 56 | K13: =E13*25-J13 -> 69 | L13: V | M13: C
A14: Discipline opționale (Op)
A15: 6 | B15: P.L.22.FIN.07.V.Op.6 | C15: Politici economice comparate | D15: S | E15: 5 | F15: 2 | G15: 2 | J15: =SUM(F15:I15)*14 -> 56 | K15: =E15*25-J15 -> 69 | L15: V
A16: 7 | B16: P.L.22.FIN.07.V.Op.7 | C16: Contabilitate de gestiune
A17: 8 | B17: P.L.22.FIN.07.V.Op.8 | C17: Analiză economico-financiară
A18: Statistici: | D18: ECTS/Ore: | E18: =SUM(E9:E17) -> 30 | F18: =SUM(F9:F17) -> 12 | G18: =SUM(G9:G17) -> 9 | H18: =SUM(H9:H17) -> 0 | I18: =SUM(I9:I17) -> 0 | J18: =SUM(J9:J17) -> 294 | K18: =SUM(K9:K17) -> 456 | L18: Ex. | M18: Ver./Col.
D19: Număr: | F19: =COUNT(F9:F17) -> 6 | G19: =COUNT(G9:G17) -> 6 | H19: =COUNT(H9:H17) -> 0 | I19: =COUNT(I9:I17) -> 0 | L19: =COUNTIF(L9:L18,"=E") -> 3 | M19: =COUNTIF(L9:L18,"=V")+COUNTIF(L9:L18,"=C") -> 3
A20: Discipline facultative (Fac)
A21: 9 | B21: P.L.22.FIN.07.V.Fac.9 | C21: Teoria jocurilor | D21: C | E21: 3 | F21: 2 | H21: 1 | J21: =SUM(F21:I21)*14 -> 42 | K21: =E21*25-J21 -> 33 | L21: V
A22: 10 | B22: P.L.22.FIN.07.V.Fac.10 | C22: Instruire asistată de calculator | D22: C | E22: 2 | F22: 1 | G22: 1 | J22: =SUM(F22:I22)*14 -> 28 | K22: =E22*25-J22 -> 22 | L22: V
A23: 11 | B23: P.L.22.FIN.07.V.Fac.11 | C23: Practică pedagogică de specialitate în învățământul preuniversitar 1 | D23: C' | E23: 3 | J23: 42 ore | L23: V
A24: 12 | B24: P.L.22.FIN.07.V.Fac.12 | C24: Voluntariat 5 | D24: C' | E24: 3 | J24: 75 ore | L24: V
B26: TOTAL NUMĂR DE ORE | C26: Discipline Obligatorii: | D26: =SUM(F9:I14) -> 17
C27: Discipline Opționale: | D27: =SUM(F15:I17) -> 4
C28: Discipline Facultative: | D28: =SUM(F21:I23) -> 5
B30: Rector, | E30: Decan, | J30: Director departament,
B31: =Sem_I!B30 -> Mihnea - Cosmin COSTOIU | D31: =Sem_I!D30 -> Carmen-Constantina NENU | J31: =Sem_I!J30 -> Luminița ȘERBĂNESCU

Sheet Sem_VI
D1: =Sem_I!D1 -> Plan de învățământ licență
D2: =Sem_I!D2 -> 2026 - 2029 | K2: Anul universitar: | L2: =Sem_V!$L$2 -> 2028 - 2029
B3: Domeniul: | C3: =Sem_I!C3 -> Finanțe | K3: Anul de studii: | L3: =Sem_V!$L$3 -> III
B4: Programul de studii: | C4: =Sem_I!C4 -> Finanțe și bănci | K4: Semestrul: | L4: II
A6: Nr. crt. | B6: Codul disciplinei | C6: Denumirea disciplinei | D6: Categorie formativă | E6: Nr. ECTS | F6: Ore/săptămână | J6: Total ore | L6: Forma de evaluare
F7: C | G7: S | H7: L | I7: P | J7: Activități didactice | K7: Studiu individual
A8: Discipline Obligatorii (Ob)
A9: 1 | B9: P.L.22.FIN.07.VI.Ob.1 | C9: Gestiune bancară | D9: S | E9: 5 | F9: 2 | G9: 1 | J9: =SUM(F9:I9)*14 -> 42 | K9: =E9*25-J9 -> 83 | L9: E | M9: E
A10: 2 | B10: P.L.22.FIN.07.VI.Ob.2 | C10: Fiscalitate | D10: S | E10: 5 | F10: 2 | G10: 1 | J10: =SUM(F10:I10)*14 -> 42 | K10: =E10*25-J10 -> 83 | L10: E | M10: E
A11: 3 | B11: P.L.22.FIN.07.VI.Ob.3 | C11: Politica financiară a firmei | D11: S | E11: 5 | F11: 2 | G11: 1 | J11: =SUM(F11:I11)*14 -> 42 | K11: =E11*25-J11 -> 83 | L11: V | M11: C
A12: 4 | B12: P.L.22.FIN.07.VI.Ob.4 | C12: Gestiunea financiară a instituțiilor publice | D12: S | E12: 4 | F12: 2 | G12: 1 | J12: =SUM(F12:I12)*14 -> 42 | K12: =E12*25-J12 -> 58 | L12: V | M12: C
A13: 5 | B13: P.L.22.FIN.07.VI.Ob.5 | C13: Buget și trezorerie publică | D13: S | E13: 5 | F13: 2 | G13: 1 | J13: =SUM(F13:I13)*14 -> 42 | K13: =E13*25-J13 -> 83 | L13: E | M13: E
A14: 6 | B14: P.L.22.FIN.07.VI.Ob.6 | C14: Elaborarea lucrării de licență | D14: S | E14: 3 | I14: 4 | J14: =SUM(F14:I14)*14 -> 56 | K14: 19 | L14: E
A15: Discipline opționale (Op)
A16: 7 | B16: P.L.22.FIN.07.VI.Op.7 | C16: Gestiunea riscului pe piețele financiare | D16: S | E16: 3 | F16: 1 | G16: 1 | J16: =SUM(F16:I16)*14 -> 28 | K16: =E16*25-J16 -> 47 | L16: V
A17: 8 | B17: P.L.22.FIN.07.VI.Op.8 | C17: Managementul portofoliului de active financiare
A18: 9 | B18: P.L.22.FIN.07.VI.Op.9 | C18: Finanţe corporative
A19: Statistici: | D19: ECTS/Ore: | E19: =SUM(E9:E18) -> 30 | F19: =SUM(F9:F18) -> 11 | G19: =SUM(G9:G18) -> 6 | H19: =SUM(H9:H18) -> 0 | I19: =SUM(I9:I18) -> 4 | J19: =SUM(J9:J18) -> 294 | K19: =SUM(K9:K18) -> 456 | L19: Ex. | M19: Ver./Col.
D20: Număr: | F20: =COUNT(F9:F18) -> 6 | G20: =COUNT(G9:G18) -> 6 | H20: =COUNT(H9:H18) -> 0 | I20: =COUNT(I9:I18) -> 1 | L20: =COUNTIF(L9:L18,"=E") -> 4 | M20: =COUNTIF(L9:L18,"=V")+COUNTIF(L9:L18,"=C") -> 3
A21: Discipline facultative (Fac)
A22: 10 | B22: P.L.22.FIN.07.VI.Fac.10 | C22: Dezvoltare regională și rurală | D22: C | E22: 4 | F22: 2 | G22: 1 | J22: =SUM(F22:I22)*14 -> 42 | K22: =E22*25-J22 -> 58 | L22: V
A23: 11 | B23: P.L.22.FIN.07.VI.Fac.11 | C23: Managementul clasei de elevi | D23: C | E23: 3 | F23: 1 | G23: 1 | J23: =SUM(F23:I23)*14 -> 28 | K23: =E23*25-J23 -> 47 | L23: E
A24: 12 | B24: P.L.22.FIN.07.VI.Fac.12 | C24: Practică pedagogică de specialitate în învățământul preuniversitar 2 | D24: C' | E24: 2 | J24: 36 ore | L24: V
A25: 13 | B25: P.L.22.FIN.07.VI.Fac.13 | C25: Voluntariat 6 | D25: C' | E25: 3 | J25: 75 ore | L25: V
B27: Examen de absolvire: Nivelul I | D27: 5 ECTS
B28: Promovarea examenului de licență | D28: 10 ECTS
B30: TOTAL NUMĂR DE ORE | C30: Discipline Obligatorii: | D30: =SUM(F9:I15) -> 19
C31: Discipline Opționale: | D31: =SUM(F16:I18) -> 2
C32: Discipline Facultative: | D32: =SUM(F22:I25) -> 5
B34: Rector, | E34: Decan, | J34: Director departament,
B35: =Sem_I!B30 -> Mihnea - Cosmin COSTOIU | D35: =Sem_I!D30 -> Carmen-Constantina NENU | J35: =Sem_I!J30 -> Luminița ȘERBĂNESCU
